BEGIN:VCALENDAR
PRODID:-//eluceo/ical//2.0/EN
VERSION:2.0
CALSCALE:GREGORIAN
BEGIN:VEVENT
UID:246b7ae051ac48e30518a58f671ca0fd
DTSTAMP:20260420T013539Z
SUMMARY:Moishe Pod-WestPDX Food Truck Field Trip
DESCRIPTION:Jewish Federation of Greater Portland\nYoung Adults\nhttps://je
 wishportland.org/young-adults/moishe-pod-westpdx-food-truck-field-trip-165
 4878531-408959\n\nMeet the Moishe Pod at a Food Truck Pod for a culinary e
 vening that will be anything but Pod-antic! Pick your favorite truck – o
 r sample several – and join us for dinner in Beaverton.\n\nRSVP at www.m
 oishepodwestpdx.com
DTSTART;TZID=America/Los_Angeles:20220915T180000
DTEND;TZID=America/Los_Angeles:20220915T200000
END:VEVENT
END:VCALENDAR
