BEGIN:VCALENDAR
PRODID:-//eluceo/ical//2.0/EN
VERSION:2.0
CALSCALE:GREGORIAN
BEGIN:VEVENT
UID:fa073a4750614d5c574efa1ca4fca6ce
DTSTAMP:20260419T220737Z
SUMMARY:New Year's Hike to Horsetail Falls
DESCRIPTION:Jewish Federation of Greater Portland\nYoung Adults\nhttps://je
 wishportland.org/young-adults/new-years-hike-to-horsetail-falls-1504903297
 -246329\n\nIn the week between Rosh Hashanah and Yom Kippur\, we are going
  to leave the confines of normal life and get out into nature again - this
  time to Horsetail Falls and\, weather permitting\, Oneonta Gorge.
DTSTART;TZID=America/Los_Angeles:20170924T100000
DTEND;TZID=America/Los_Angeles:20170924T140000
END:VEVENT
END:VCALENDAR
