BEGIN:VCALENDAR
PRODID:-//eluceo/ical//2.0/EN
VERSION:2.0
CALSCALE:GREGORIAN
BEGIN:VEVENT
UID:d79545a4ca41aacaaa485ac4318990af
DTSTAMP:20260420T082607Z
SUMMARY:Niggun Event
DESCRIPTION:Jewish Federation of Greater Portland\nYoung Adults\nhttps://je
 wishportland.org/young-adults/niggun-event-1701298665-453214\n\nJoin us to
  congregate through songs and snacks.
DTSTART;TZID=America/Los_Angeles:20231213T180000
DTEND;TZID=America/Los_Angeles:20231213T200000
END:VEVENT
END:VCALENDAR
