BEGIN:VCALENDAR
PRODID:-//eluceo/ical//2.0/EN
VERSION:2.0
CALSCALE:GREGORIAN
BEGIN:VEVENT
UID:8b32d81878a4d9e7046e06b583734ad9
DTSTAMP:20260421T054738Z
SUMMARY:Oregon Jewish Community Youth Foundation Annual Benefit Dinner
DESCRIPTION:Jewish Federation of Greater Portland\nYoung Adults\nhttps://je
 wishportland.org/young-adults/oregon-jewish-community-youth-foundation-ann
 ual-benefit-dinner-1437523938-154819\n\nThe 10th Annual Benefit dinner for
  the Oregon Jewish Community Youth Foundation. Funds raised are then grant
 ed out to local non-profits by the students who make up the Youth Foundati
 on.
DTSTART;TZID=America/Los_Angeles:20160420T173000
DTEND;TZID=America/Los_Angeles:20160420T203000
END:VEVENT
END:VCALENDAR
