BEGIN:VCALENDAR
PRODID:-//eluceo/ical//2.0/EN
VERSION:2.0
CALSCALE:GREGORIAN
BEGIN:VEVENT
UID:9fbfa0266b2f71ce200e10ccfdfb81b2
DTSTAMP:20260425T210155Z
SUMMARY:Passover Seder How-To Workshop with Haggadot.Com
DESCRIPTION:Jewish Federation of Greater Portland\nYoung Adults\nhttps://je
 wishportland.org/young-adults/passover-seder-how-to-workshop-with-haggadot
 com-370115\n\nA Passover Gift from our Federation family to yours...join t
 he experts at Haggadot.com to learn how to enhance your virtual and/or soc
 ially distanced Passover seders.\n\nRegister for Zoom login information he
 re: https://www.jewishportland.org/passoversession\n\n 
DTSTART;TZID=America/Los_Angeles:20210314T160000
DTEND;TZID=America/Los_Angeles:20210314T170000
END:VEVENT
END:VCALENDAR
