BEGIN:VCALENDAR
PRODID:-//eluceo/ical//2.0/EN
VERSION:2.0
CALSCALE:GREGORIAN
BEGIN:VEVENT
UID:ae33129accd3e06dd80b56ccc090fb65
DTSTAMP:20260423T231957Z
SUMMARY:Passover Services - First Two Days
DESCRIPTION:Jewish Federation of Greater Portland\nYoung Adults\nhttps://je
 wishportland.org/young-adults/passover-services-first-two-days-186367\n\nJ
 oin us for services on the first days of Passover. 
DTSTART;TZID=America/Los_Angeles:20160423T093000
DTEND;TZID=America/Los_Angeles:20160423T130000
END:VEVENT
END:VCALENDAR
