BEGIN:VCALENDAR
PRODID:-//eluceo/ical//2.0/EN
VERSION:2.0
CALSCALE:GREGORIAN
BEGIN:VEVENT
UID:ce5dc6a6633959a059f9ac06e3ce65ca
DTSTAMP:20260425T225411Z
SUMMARY:#PDXBizLeaders MJCC Business Breakfast #2
DESCRIPTION:Jewish Federation of Greater Portland\nYoung Adults\nhttps://je
 wishportland.org/young-adults/pdxbizleaders-mjcc-business-breakfast-2-2512
 79\n\nDan Schoenbaum\, CEO of Cooladata\, and Skip Newberry of Technology 
 Association of Oregon will discuss "Building Bridges Between Oregon and Is
 rael". Steve "Rosy" Rosenberg will act as moderator.
DTSTART;TZID=America/Los_Angeles:20180124T071500
DTEND;TZID=America/Los_Angeles:20180124T091500
END:VEVENT
END:VCALENDAR
