BEGIN:VCALENDAR
PRODID:-//eluceo/ical//2.0/EN
VERSION:2.0
CALSCALE:GREGORIAN
BEGIN:VEVENT
UID:3ef5fa9f0fb642af1003d4e9ae54b4c4
DTSTAMP:20260425T000641Z
SUMMARY:Portland Jewish Connection Goes to the First Thursday Night Market!
DESCRIPTION:Jewish Federation of Greater Portland\nYoung Adults\nhttps://je
 wishportland.org/young-adults/portland-jewish-connection-goes-to-the-first
 -thursday-night-market-1776177046-514417\n\nJoin Portland Jewish Connectio
 n on Thursday\, May 7th at 6:30 pm as we go to Deschutes Brewery and explo
 re the First Thursday Market in the Pearl! There are limited spots availab
 le for the Deschutes Brewery reservation! Register for the appetizers and 
 drinks at Deschutes via this google form: https://forms.gle/RctVz5VynEiwjf
 UV9.
DTSTART;TZID=America/Los_Angeles:20260507T183000
DTEND;TZID=America/Los_Angeles:20260507T210000
END:VEVENT
END:VCALENDAR
