BEGIN:VCALENDAR
PRODID:-//eluceo/ical//2.0/EN
VERSION:2.0
CALSCALE:GREGORIAN
BEGIN:VEVENT
UID:cb49c65ac35ded6928e6a1ba6cef444b
DTSTAMP:20260422T131458Z
SUMMARY:Portland LGBTQ PRIDE Parade
DESCRIPTION:Jewish Federation of Greater Portland\nYoung Adults\nhttps://je
 wishportland.org/young-adults/portland-pride-parade-june2017-227731\n\nMar
 ch in the parade together as a community for the very 1st time\, showing o
 ur JEWISH LGBTQ PRIDE!
DTSTART;TZID=America/Los_Angeles:20170618T080000
DTEND;TZID=America/Los_Angeles:20170618T170000
END:VEVENT
END:VCALENDAR
