BEGIN:VCALENDAR
PRODID:-//eluceo/ical//2.0/EN
VERSION:2.0
CALSCALE:GREGORIAN
BEGIN:VEVENT
UID:9dad1e5f55c012a517f1117a411f1fb7
DTSTAMP:20260422T114513Z
SUMMARY:Portland Purim Party 2025
DESCRIPTION:Jewish Federation of Greater Portland\nYoung Adults\nhttps://je
 wishportland.org/young-adults/portland-purim-party-2025-1736455962-483877\
 n\nPURIM DANCE AND COSTUME PARTY 21+
DTSTART;TZID=America/Los_Angeles:20250315T210000
DTEND;TZID=America/Los_Angeles:20250316T010000
END:VEVENT
END:VCALENDAR
