BEGIN:VCALENDAR
PRODID:-//eluceo/ical//2.0/EN
VERSION:2.0
CALSCALE:GREGORIAN
BEGIN:VEVENT
UID:a6717469746028c750abc6bf282ce502
DTSTAMP:20260423T191813Z
SUMMARY:Portland’s Young Adult Seder
DESCRIPTION:Jewish Federation of Greater Portland\nYoung Adults\nhttps://je
 wishportland.org/young-adults/portlands-young-adult-seder-1741978769-48823
 2\n\nRaise a glass (or four) at Portland’s Young Adult Seder. This music
 al\, interactive Seder experience\, led by Congregation Beth Israel’s Ca
 ntor Rayna Green\, is a great way to connect with Jews in their 20s and 30
 s across the Portland area while enjoying a light Passover meal. You don't
  need any prior experience or knowledge of Passover to attend\, this will 
 be accessible for all!\n\n$18/person\, age 21 and over. This is a child-fr
 ee gathering.\nThursday\, April 17 at 7:00 PM\nCongregation...
DTSTART;TZID=America/Los_Angeles:20250417T190000
DTEND;TZID=America/Los_Angeles:20250417T210000
END:VEVENT
END:VCALENDAR
