BEGIN:VCALENDAR
PRODID:-//eluceo/ical//2.0/EN
VERSION:2.0
CALSCALE:GREGORIAN
BEGIN:VEVENT
UID:ff77d2aa6f91fe2433fb6f272989b0f3
DTSTAMP:20260423T152144Z
SUMMARY:Purim with Kesser Israel!
DESCRIPTION:Jewish Federation of Greater Portland\nYoung Adults\nhttps://je
 wishportland.org/young-adults/purim-with-kesser-israel-1676574686-432101\n
 \nCelebrate Purim at Kesser Israel! Join us for Megillah (and Kid's Megill
 ah too) reading Break Fast light dinner and our famous Purim Shpiel!\n\n6:
 45 pm  First Megillah\n6:45 pm  Kids Megillah at Kollel\n7:30 pm   Break F
 ast\n8:15  pm   Purim Shpiel \n9:00 pm Second Megillah
DTSTART;TZID=America/Los_Angeles:20230306T184500
DTEND;TZID=America/Los_Angeles:20230306T220000
END:VEVENT
END:VCALENDAR
