BEGIN:VCALENDAR
PRODID:-//eluceo/ical//2.0/EN
VERSION:2.0
CALSCALE:GREGORIAN
BEGIN:VEVENT
UID:ea5c25a36ccc60e5028cd0b33ab390f6
DTSTAMP:20260420T104113Z
SUMMARY:Sandy community Menorah lighting
DESCRIPTION:Jewish Federation of Greater Portland\nYoung Adults\nhttps://je
 wishportland.org/young-adults/sandy-community-menorah-lighting-1669586914-
 422502\n\nFirst ever giant Menorah lighting and Chanukah celebration in Sa
 ndy!\n\nMusic\nDonuts and chocolate coins\nGiant inflatable Dreidel\n\nFre
 e event. All are welcome!
DTSTART;TZID=America/Los_Angeles:20221220T173000
DTEND;TZID=America/Los_Angeles:20221220T193000
END:VEVENT
END:VCALENDAR
