BEGIN:VCALENDAR
PRODID:-//eluceo/ical//2.0/EN
VERSION:2.0
CALSCALE:GREGORIAN
BEGIN:VEVENT
UID:441a8f196c654920bf07a4021341d36b
DTSTAMP:20260424T221655Z
SUMMARY:Scholar in Residence with Rabbi Ilan Feldman
DESCRIPTION:Jewish Federation of Greater Portland\nYoung Adults\nhttps://je
 wishportland.org/young-adults/scholar-in-residence-with-rabbi-203035\n\nWe
  are excited to welcome Rabbi Ilan Freedman from Beth Jacob Atlanta to Por
 tland.  Join us this weekend for a series of exciting events!
DTSTART;TZID=America/Los_Angeles:20170224T170000
DTEND;TZID=America/Los_Angeles:20170226T120500
END:VEVENT
END:VCALENDAR
