BEGIN:VCALENDAR
PRODID:-//eluceo/ical//2.0/EN
VERSION:2.0
CALSCALE:GREGORIAN
BEGIN:VEVENT
UID:3f046ddc421aa961237b8537c3da8f3f
DTSTAMP:20260422T141221Z
SUMMARY:Shabbat around the World
DESCRIPTION:Jewish Federation of Greater Portland\nYoung Adults\nhttps://je
 wishportland.org/young-adults/shabbat-around-the-world-1445455773-169035\n
 \nA culinary tour highlighting unique Shabbat cuisine and traditions of Je
 wish communities from around the globe
DTSTART;TZID=America/Los_Angeles:20151030T180000
DTEND;TZID=America/Los_Angeles:20151030T200000
END:VEVENT
END:VCALENDAR
