BEGIN:VCALENDAR
PRODID:-//eluceo/ical//2.0/EN
VERSION:2.0
CALSCALE:GREGORIAN
BEGIN:VEVENT
UID:24e2b6377803e62b7c9d463b04221059
DTSTAMP:20260419T223001Z
SUMMARY:Shabbat on the Plaza and Brotherhood BBQ
DESCRIPTION:Jewish Federation of Greater Portland\nYoung Adults\nhttps://je
 wishportland.org/young-adults/shabbat-on-the-plaza-and-brotherhood-bbq-146
 7310481-197295\n\nEnjoy Zenner’s hot dogs boiled in beer and then grille
 d until they pop.  Plus ice cold beverages!
DTSTART;TZID=America/Los_Angeles:20160805T180000
DTEND;TZID=America/Los_Angeles:20160805T190000
END:VEVENT
END:VCALENDAR
