BEGIN:VCALENDAR
PRODID:-//eluceo/ical//2.0/EN
VERSION:2.0
CALSCALE:GREGORIAN
BEGIN:VEVENT
UID:f03480d77f08bcd523b5c9d654a2fd92
DTSTAMP:20260424T082803Z
SUMMARY:Shabbat Service in Spanish & Hebrew\, Bienvenidos a Shabat
DESCRIPTION:Jewish Federation of Greater Portland\nYoung Adults\nhttps://je
 wishportland.org/young-adults/shabbat-service-in-spanish-hebrew-142740\n\n
 Come join us for a unique Friday night service on May 15 that celebrates a
  bilingual approach. We will have our usual celebration and songs and welc
 ome Shabbat together\, and this time we’ll do it in Spanish and Hebrew.
DTSTART;TZID=America/Los_Angeles:20150515T190000
DTEND;TZID=America/Los_Angeles:20150515T203000
END:VEVENT
END:VCALENDAR
