BEGIN:VCALENDAR
PRODID:-//eluceo/ical//2.0/EN
VERSION:2.0
CALSCALE:GREGORIAN
BEGIN:VEVENT
UID:4c92129d16b6a7824febbdb7fcc14993
DTSTAMP:20260424T200111Z
SUMMARY:Shabbat Service led by Rabbi Berg and Cantor Ann Brown
DESCRIPTION:Jewish Federation of Greater Portland\nYoung Adults\nhttps://je
 wishportland.org/young-adults/shabbat-service-led-by-rabbi-berg-and-cantor
 -ann-brown-1434496975-149766\n\nRabbi And Cantor Ann Brown will lead servi
 ces.  Zach Friedman will be called to the Torah as a Bar Mitzvah
DTSTART;TZID=America/Los_Angeles:20150620T100000
DTEND;TZID=America/Los_Angeles:20150620T120000
END:VEVENT
END:VCALENDAR
