BEGIN:VCALENDAR
PRODID:-//eluceo/ical//2.0/EN
VERSION:2.0
CALSCALE:GREGORIAN
BEGIN:VEVENT
UID:8acccd98edd4affd3559f4541bcea934
DTSTAMP:20260424T010106Z
SUMMARY:Shabbat Service with Confirmation Ceremony
DESCRIPTION:Jewish Federation of Greater Portland\nYoung Adults\nhttps://je
 wishportland.org/young-adults/shabbat-service-with-confirmation-ceremony-1
 431553257-145524\n\nOur Confirmation Class will lead Shabbat Services alon
 g with Rabbi Berg and Ann Brown. In addition to reading Torah\, each stude
 nt will present a brief d'var.
DTSTART;TZID=America/Los_Angeles:20150612T190000
DTEND;TZID=America/Los_Angeles:20150612T203000
END:VEVENT
END:VCALENDAR
