BEGIN:VCALENDAR
PRODID:-//eluceo/ical//2.0/EN
VERSION:2.0
CALSCALE:GREGORIAN
BEGIN:VEVENT
UID:a0995bd1d03d1ffc6c5332b96491f6d9
DTSTAMP:20260419T150617Z
SUMMARY:Neveh Shalom: SHABBAT AROUND THE WORLD: Shabbat Marrakesh
DESCRIPTION:Jewish Federation of Greater Portland\nYoung Adults\nhttps://je
 wishportland.org/young-adults/shabbatmarrakesh-175272\n\nJoin Rabbi Kosak 
 and Cantor Bletstein of Congregation Neveh Shalom for a musical Shabbat fe
 aturing the sounds and cuisine of the Jews of Morocco.
DTSTART;TZID=America/Los_Angeles:20160108T181500
DTEND;TZID=America/Los_Angeles:20160108T203000
END:VEVENT
END:VCALENDAR
