BEGIN:VCALENDAR
PRODID:-//eluceo/ical//2.0/EN
VERSION:2.0
CALSCALE:GREGORIAN
BEGIN:VEVENT
UID:eced078bb91306d41b8cb56821e48c8d
DTSTAMP:20260423T102052Z
SUMMARY:Stand Up Feat. Wendy Liebman & Cathy Ladman
DESCRIPTION:Jewish Federation of Greater Portland\nYoung Adults\nhttps://je
 wishportland.org/young-adults/stand-up-feat-wendy-liebman--cathy-ladman-14
 64132773-192002\n\nCome see Wendy Liebman & Cathy Ladman preform a special
  live stand up comedy event in Downtown Portland
DTSTART;TZID=America/Los_Angeles:20160812T193000
DTEND;TZID=America/Los_Angeles:20160812T212000
END:VEVENT
END:VCALENDAR
