BEGIN:VCALENDAR
PRODID:-//eluceo/ical//2.0/EN
VERSION:2.0
CALSCALE:GREGORIAN
BEGIN:VEVENT
UID:1c9a29f53590233e762eb6feaafd67d7
DTSTAMP:20260419T233940Z
SUMMARY:Stories of Light and Strength
DESCRIPTION:Jewish Federation of Greater Portland\nYoung Adults\nhttps://je
 wishportland.org/young-adults/stories-of-light-and-strength-1731274612-480
 136\n\nCome hear original takes on some classic Jewish stories told by Cas
 sandra Sagan and Gail Pasternack\, master story tellers! The stories are d
 esigned for adults but are family- friendly! FREE!
DTSTART;TZID=America/Los_Angeles:20241211T173000
DTEND;TZID=America/Los_Angeles:20241211T183000
END:VEVENT
END:VCALENDAR
