BEGIN:VCALENDAR
PRODID:-//eluceo/ical//2.0/EN
VERSION:2.0
CALSCALE:GREGORIAN
BEGIN:VEVENT
UID:313e81f3f32b4e6a15737c43d31d402b
DTSTAMP:20260422T102243Z
SUMMARY:Sunday Parkways SE
DESCRIPTION:Jewish Federation of Greater Portland\nYoung Adults\nhttps://je
 wishportland.org/young-adults/sunday-parkways-se-61047\n\nA collection of 
 fun activities\, festive music\, and delicious food awaits you. Visit our 
 Jewish Federation and MJCC booth!
DTSTART;TZID=America/Los_Angeles:20160821T110000
DTEND;TZID=America/Los_Angeles:20160821T160000
END:VEVENT
END:VCALENDAR
