BEGIN:VCALENDAR
PRODID:-//eluceo/ical//2.0/EN
VERSION:2.0
CALSCALE:GREGORIAN
BEGIN:VEVENT
UID:aa187251f33cfac62489f5cc368ebd50
DTSTAMP:20260424T045225Z
SUMMARY:Super Sunday 2020
DESCRIPTION:Jewish Federation of Greater Portland\nYoung Adults\nhttps://je
 wishportland.org/young-adults/super-sunday-2020-337987\n\n \n\n \n\n \n
 \n \n\n \n\n \n\n \n\n \n\n \n\n \n\n \n\n \n\nPlant seeds of cha
 nge in our community\n\n \n\nMake calls for donations to grow our campaig
 n and strengthen our entire Jewish community.\n\nYou can also text our sup
 porters\, help the phoning run smoothly\, or thank people for their suppor
 t. \n\n \n\nFeaturing: \n\nthe\n\n$1000 Golden Phone Award\n\nfor the J
 ewish organization who brings the most volunteers\n\nand the\n\n$100 Super
 hero award\n\nfor the caller and texter...
DTSTART;TZID=America/Los_Angeles:20200223T090000
DTEND;TZID=America/Los_Angeles:20200223T140000
END:VEVENT
END:VCALENDAR
