BEGIN:VCALENDAR
PRODID:-//eluceo/ical//2.0/EN
VERSION:2.0
CALSCALE:GREGORIAN
BEGIN:VEVENT
UID:d1a1e55147b2d4c21d754c46a847a1f1
DTSTAMP:20260419T122330Z
SUMMARY:The Annual Queen Esther Talent Showcase
DESCRIPTION:Jewish Federation of Greater Portland\nYoung Adults\nhttps://je
 wishportland.org/young-adults/the-annual-queen-esther-talent-showcase-4867
 38\n\nCalling all Portland Area Jewish women!\n\nCome be inspired and have
  so much fun - share your talent with your community - it's for women\, b
 y women!\n\nFree event! Sign up to enjoy the show!\n\nwww.kesserisrael.org
 /event/talent\n\nTo perform\, email mcarr@kesserisrael.org
DTSTART;TZID=America/Los_Angeles:20250302T000000
DTEND;TZID=America/Los_Angeles:20250302T235959
END:VEVENT
END:VCALENDAR
