BEGIN:VCALENDAR
PRODID:-//eluceo/ical//2.0/EN
VERSION:2.0
CALSCALE:GREGORIAN
BEGIN:VEVENT
UID:51b4ec060c7833bcb494d923b43edcb9
DTSTAMP:20260421T152808Z
SUMMARY:The Q: Oregon’s Best Multimedia Trivia Competition
DESCRIPTION:Jewish Federation of Greater Portland\nYoung Adults\nhttps://je
 wishportland.org/young-adults/the-q-1427393216-140005\n\nDon't miss Portla
 nd's best trivia competition. 
DTSTART;TZID=America/Los_Angeles:20160211T200000
DTEND;TZID=America/Los_Angeles:20160211T230000
END:VEVENT
END:VCALENDAR
