BEGIN:VCALENDAR
PRODID:-//eluceo/ical//2.0/EN
VERSION:2.0
CALSCALE:GREGORIAN
BEGIN:VEVENT
UID:c839fe3a46ba5c3381b75bd08b67c877
DTSTAMP:20260419T230849Z
SUMMARY:Tigard Passover Seder
DESCRIPTION:Jewish Federation of Greater Portland\nYoung Adults\nhttps://je
 wishportland.org/young-adults/tigard-passover-seder-1712174905-463703\n\nj
 oin the Tigard Jewish community for a Passover Seder packed with tradition
 !\n\nEnjoy a beautiful Hebrew/English Passover experience with a gourmet K
 osher for Passover traditional dinner. April 22 at 7:30 PM\, at the Tigard
  Chabad Jewish Center.\n\nOur Passover Seder is easy to follow\, interacti
 ve\, with great Jewish humor and a warm and friendly atmosphere. Whether y
 ou are a longtime Seder goer or first-timer\, you will love this Seder exp
 erience!
DTSTART;TZID=America/Los_Angeles:20240422T193000
DTEND;TZID=America/Los_Angeles:20240422T220000
END:VEVENT
END:VCALENDAR
