BEGIN:VCALENDAR
PRODID:-//eluceo/ical//2.0/EN
VERSION:2.0
CALSCALE:GREGORIAN
BEGIN:VEVENT
UID:da78de5e1ab4da250656cd9516bc579c
DTSTAMP:20260423T094901Z
SUMMARY:Torah Study with Rabbi Berg
DESCRIPTION:Jewish Federation of Greater Portland\nYoung Adults\nhttps://je
 wishportland.org/young-adults/torah-study-with-rabbi-berg-1434502596-14978
 6\n\nRabbi Berg will lead a discussion of this week's parasha. All are wel
 come.
DTSTART;TZID=America/Los_Angeles:20150815T100000
DTEND;TZID=America/Los_Angeles:20150815T113000
END:VEVENT
END:VCALENDAR
