BEGIN:VCALENDAR
PRODID:-//eluceo/ical//2.0/EN
VERSION:2.0
CALSCALE:GREGORIAN
BEGIN:VEVENT
UID:11a28747b21e0764d9b8166fa527c312
DTSTAMP:20260423T110512Z
SUMMARY:Vegan PDX
DESCRIPTION:Jewish Federation of Greater Portland\nYoung Adults\nhttps://je
 wishportland.org/young-adults/vegan-pdx-14666\n\nVegan PDX
DTSTART;TZID=America/Los_Angeles:20131124T170000
DTEND;TZID=America/Los_Angeles:20131124T190000
END:VEVENT
END:VCALENDAR
