BEGIN:VCALENDAR
PRODID:-//eluceo/ical//2.0/EN
VERSION:2.0
CALSCALE:GREGORIAN
BEGIN:VEVENT
UID:8cf5055b70e0aefc8e54649ca9afe660
DTSTAMP:20260421T201155Z
SUMMARY:Yom Kippur Service - Neveh Shalom
DESCRIPTION:Jewish Federation of Greater Portland\nYoung Adults\nhttps://je
 wishportland.org/young-adults/yom-kippur-service-neveh-shalom-5783-415542\
 n\nHigh Holiday services at Neveh Shalom\, an open and egalitarian communi
 ty\, are led by Rabbi David Kosak\, Rabbi Eve Posen\, and Cantor Eyal Bitt
 on. We offer lively young child services as well as K-6 appropriate famil
 y experiences. We welcome all to experience the New Year with Neveh Shalom
 .\n\nYom Kippur\n\nEREV YOM KIPPUR\nTUESDAY\, OCTOBER 4\n\n6:00pm Kol Nid
 re Service – Rabbi Kosak & Cantor Bitton\, Main Sanctuary\n6:00pm Kol 
 Nidre Service – Rabbi Posen & Natan Meir\, Stampfer Chapel\n...
DTSTART;TZID=America/Los_Angeles:20221005T083000
DTEND;TZID=America/Los_Angeles:20221005T194000
END:VEVENT
END:VCALENDAR
