BEGIN:VCALENDAR
PRODID:-//eluceo/ical//2.0/EN
VERSION:2.0
CALSCALE:GREGORIAN
BEGIN:VEVENT
UID:8b88d62229302658eb7f4759f3b44649
DTSTAMP:20260425T121806Z
SUMMARY:Yom Limmud: a Community Day of Learning
DESCRIPTION:Jewish Federation of Greater Portland\nYoung Adults\nhttps://je
 wishportland.org/young-adults/yom-limmud-day-of-learning-for-educators-181
 526\n\nJoin our Greater Portland Community rabbis for an afternoon of lear
 ning as we prepare our hearts and heads for the High Holidays.\n\n
DTSTART;TZID=America/Los_Angeles:20160925T130000
DTEND;TZID=America/Los_Angeles:20160925T160000
END:VEVENT
END:VCALENDAR
