BEGIN:VCALENDAR
PRODID:-//eluceo/ical//2.0/EN
VERSION:2.0
CALSCALE:GREGORIAN
BEGIN:VEVENT
UID:8b089552a5f7cc83cec47ec6553fb048
DTSTAMP:20260422T160429Z
SUMMARY:Young Adult Seder
DESCRIPTION:Jewish Federation of Greater Portland\nYoung Adults\nhttps://je
 wishportland.org/young-adults/young-adult-seder-1516843693-260067\n\nThe f
 ood will be homemade and so is the Haggadah!
DTSTART;TZID=America/Los_Angeles:20180331T170000
DTEND;TZID=America/Los_Angeles:20180331T220000
END:VEVENT
END:VCALENDAR
