BEGIN:VCALENDAR
PRODID:-//eluceo/ical//2.0/EN
VERSION:2.0
CALSCALE:GREGORIAN
BEGIN:VEVENT
UID:44ee9a21aa916d22f8dac2bb86f06f09
DTSTAMP:20260424T182404Z
SUMMARY:2017 Sunday Parkways NE
DESCRIPTION:Jewish Federation of Greater Portland\nYoung Families\nhttps://
 jewishportland.org/young-families/2017-sunday-parkways-ne-228917\n\nVISIT 
 OUR JEWISH COMMUNAL BOOTH TO LEARN MORE ABOUT OUR WONDERFUL PORTLAND COMMU
 NITY!
DTSTART;TZID=America/Los_Angeles:20170723T110000
DTEND;TZID=America/Los_Angeles:20170723T160000
END:VEVENT
END:VCALENDAR
