BEGIN:VCALENDAR
PRODID:-//eluceo/ical//2.0/EN
VERSION:2.0
CALSCALE:GREGORIAN
BEGIN:VEVENT
UID:9d5c124cc1051f65ecc3b8dd2aee42f8
DTSTAMP:20260421T023250Z
SUMMARY:A Little Shabbat at Shaarie Torah
DESCRIPTION:Jewish Federation of Greater Portland\nYoung Families\nhttps://
 jewishportland.org/young-families/a-little-shabbat-at-shaarie-torah-154176
 \n\nWant to do Shabbat but have young children who fall asleep early?  Joi
 n Congregation Shaarie Torah and Rabbi Josh Rose for a bit of “Shabbos f
 eeling!” 
DTSTART;TZID=America/Los_Angeles:20150821T170000
DTEND;TZID=America/Los_Angeles:20150821T183000
END:VEVENT
END:VCALENDAR
