BEGIN:VCALENDAR
PRODID:-//eluceo/ical//2.0/EN
VERSION:2.0
CALSCALE:GREGORIAN
BEGIN:VEVENT
UID:1956c8a3220d580dd19cf06f0341e678
DTSTAMP:20260421T033705Z
SUMMARY:A Rollicking Purim Shabbat
DESCRIPTION:Jewish Federation of Greater Portland\nYoung Families\nhttps://
 jewishportland.org/young-families/a-rollicking-purim-shabbat-182981\n\nA R
 ollicking Purim Shabbat
DTSTART;TZID=America/Los_Angeles:20160325T190000
DTEND;TZID=America/Los_Angeles:20160325T210000
END:VEVENT
END:VCALENDAR
