BEGIN:VCALENDAR
PRODID:-//eluceo/ical//2.0/EN
VERSION:2.0
CALSCALE:GREGORIAN
BEGIN:VEVENT
UID:7484da60cc1ef39fae230a42d710805e
DTSTAMP:20260421T201419Z
SUMMARY:Annual Theatrical Passover Community Seder at Gesher
DESCRIPTION:Jewish Federation of Greater Portland\nYoung Families\nhttps://
 jewishportland.org/young-families/annual-theatrical-passover-community-sed
 er-at-gesher-305643\n\nCome one\, come all!  Gesher Rabbis Laurie Rutenbe
 rg and Gary Schoenberg invite you to join their caravan of ex-slaves on a 
 journey in search of freedom.  This theatrical Passover journey moves fro
 m a heated tent encampment in the desert\, through the Reed Sea to a festi
 ve\, delicious indoor banquet in celebration of our freedom.\n\n\nGesher w
 ill provide slave clothing\, exit visas and scrumptious sustenance for all
 .  Together\, we will ask the traditional four questions and some other 
 ones: W...
DTSTART;TZID=America/Los_Angeles:20190419T173000
DTEND;TZID=America/Los_Angeles:20190419T213000
END:VEVENT
END:VCALENDAR
