BEGIN:VCALENDAR
PRODID:-//eluceo/ical//2.0/EN
VERSION:2.0
CALSCALE:GREGORIAN
BEGIN:VEVENT
UID:914f0b0f7b78be3411912ae5e506d7cd
DTSTAMP:20260423T215052Z
SUMMARY:BB Camp Family Hike
DESCRIPTION:Jewish Federation of Greater Portland\nYoung Families\nhttps://
 jewishportland.org/young-families/bb-camp-family-hike-1544209605-295336\n\
 nBB Camp Family Hike\n\nIt’s almost the new year\, so grab the family an
 d hit the trails! BB Camp is going for a rain hike\, and our whole communi
 ty is invited. Enjoy fresh Oregon air and rain\, with added camp-style gam
 es and fun throughout the hike. After our hike we’ll warm up inside at t
 he Clearing Cafe\, where we can enjoy some hot cocoa or coffee and schmooz
 e!\n\nWho: All BB Camp Families\nWhere: Forest Park\, Lower Macleay Trail 
 (meet at Macleay Park: 2960 NW Upshur Street\, Portland\, OR ...
DTSTART;TZID=America/Los_Angeles:20181227T133000
DTEND;TZID=America/Los_Angeles:20181227T153000
END:VEVENT
END:VCALENDAR
