BEGIN:VCALENDAR
PRODID:-//eluceo/ical//2.0/EN
VERSION:2.0
CALSCALE:GREGORIAN
BEGIN:VEVENT
UID:c28266364b6d70c01a311cd9ad1bc6f2
DTSTAMP:20260419T153523Z
SUMMARY:BB Camp Pizza in the Park
DESCRIPTION:Jewish Federation of Greater Portland\nYoung Families\nhttps://
 jewishportland.org/young-families/bb-camp-pizza-in-the-park-pdx-407139\n\n
 BB Camp’s Pizza in the Park! Each spring we host Pizza in the Park\
 , a free event for Camp families\, to connect campers & families with eac
 h other\, provide an opportunity for your campers to meet some of our Camp
  Directors and other leadership staff\, answer your overnight & day camp q
 uestions\, and give you a taste of the fun summer has in store!\n\nAt 
 Pizza in the Park\, we provide dinner for your family\, activities and gam
 es for your Campers\, and conversations and connection for ad...
DTSTART;TZID=America/Los_Angeles:20220531T170000
DTEND;TZID=America/Los_Angeles:20220531T190000
END:VEVENT
END:VCALENDAR
