BEGIN:VCALENDAR
PRODID:-//eluceo/ical//2.0/EN
VERSION:2.0
CALSCALE:GREGORIAN
BEGIN:VEVENT
UID:38081440e94ad4937e81c02521a07e0d
DTSTAMP:20260425T010724Z
SUMMARY:Build And Decorate The Eastside Community Sukkah
DESCRIPTION:Jewish Federation of Greater Portland\nYoung Families\nhttps://
 jewishportland.org/young-families/build-and-decorate-the-eastside-communit
 y-sukkah-501150\n\nJoin the Jewish Federation of Greater Portland and Leik
 am Brewing to help build and decorate the Eastside Community Sukkah.  \n
 \nExplore the ancestral practice of building\, decorating\, and gathering 
 together in celebration of the holiday of Sukkot by helping create our Eas
 tside Community Sukkah.\n\nHelp build the Sukkah (18+)\n\nCraft rain frien
 dly decorations (ALL AGES)\n\nMeet your eastside Jewish neighbors\n\nKid f
 riendly snacks and drinks provided\, Leikam beverages available for purcha
 s...
DTSTART;TZID=America/Los_Angeles:20251005T150000
DTEND;TZID=America/Los_Angeles:20251005T170000
END:VEVENT
END:VCALENDAR
