BEGIN:VCALENDAR
PRODID:-//eluceo/ical//2.0/EN
VERSION:2.0
CALSCALE:GREGORIAN
BEGIN:VEVENT
UID:423ef971c55d9cdeac27da721c1496e0
DTSTAMP:20260419T184040Z
SUMMARY:CNS Young Family Shavuot Program
DESCRIPTION:Jewish Federation of Greater Portland\nYoung Families\nhttps://
 jewishportland.org/young-families/cns-young-family-shavuot-program-230636\
 n\nJoin us for an evening of Shavuot fun with Morah Leah Conley.
DTSTART;TZID=America/Los_Angeles:20170531T170000
DTEND;TZID=America/Los_Angeles:20170531T190000
END:VEVENT
END:VCALENDAR
