BEGIN:VCALENDAR
PRODID:-//eluceo/ical//2.0/EN
VERSION:2.0
CALSCALE:GREGORIAN
BEGIN:VEVENT
UID:d9cf58b6dd85b4023bbe04a6289cfd5d
DTSTAMP:20260423T132244Z
SUMMARY:Community Seder on the Oregon Coast
DESCRIPTION:Jewish Federation of Greater Portland\nYoung Families\nhttps://
 jewishportland.org/young-families/community-seder-on-the-oregon-coast-1841
 14\n\nCentral Oregon Coast Jewish Community\nInvites you to a Community Se
 der\nThursday\, April 28\, 2016\n6pm\nB’nai B’rith Camp\nNeotsu\, Oreg
 on\nTickets $18 /person\nRegister at http://bbcamp.org/community-seder/\n
 \nFor more info contact:\nDavid Gomberg at David@GombergKites.com \nThea 
 Robinson at trobinson@bbcamp.org
DTSTART;TZID=America/Los_Angeles:20160428T180000
DTEND;TZID=America/Los_Angeles:20160428T203000
END:VEVENT
END:VCALENDAR
