BEGIN:VCALENDAR
PRODID:-//eluceo/ical//2.0/EN
VERSION:2.0
CALSCALE:GREGORIAN
BEGIN:VEVENT
UID:2a5d08fb4bd102e0c45e041f174a3b05
DTSTAMP:20260424T183012Z
SUMMARY:Congregation Kol Ami 5783 Family Service
DESCRIPTION:Jewish Federation of Greater Portland\nYoung Families\nhttps://
 jewishportland.org/young-families/congregation-kol-ami-5783-family-service
 -416343\n\nPlease bring your children to celebrate the new year at Congreg
 ation Kol Ami.  If would like to attend please email Sam admin@jewishvanc
 ouverusa.org.  https://jewishvancouverusa.org/worship/high-holy-days/
DTSTART;TZID=America/Los_Angeles:20220926T150000
DTEND;TZID=America/Los_Angeles:20220926T170000
END:VEVENT
END:VCALENDAR
