BEGIN:VCALENDAR
PRODID:-//eluceo/ical//2.0/EN
VERSION:2.0
CALSCALE:GREGORIAN
BEGIN:VEVENT
UID:b6c87ebc047678fc91a3c5a59349e3bc
DTSTAMP:20260425T105530Z
SUMMARY:Congregation Neveh Shalom’s Back to Shul ALL COMMUNITY BBQ
DESCRIPTION:Jewish Federation of Greater Portland\nYoung Families\nhttps://
 jewishportland.org/young-families/congregation-neveh-shaloms-back-to-shul-
 all-community-bbq-178681\n\nJoin us for our Annual end of summer ALL Commu
 nity ALL ages BBQ!  Lots of hot dogs\, shave ice and schmoozing! 
DTSTART;TZID=America/Los_Angeles:20160904T120000
DTEND;TZID=America/Los_Angeles:20160904T140000
END:VEVENT
END:VCALENDAR
