BEGIN:VCALENDAR
PRODID:-//eluceo/ical//2.0/EN
VERSION:2.0
CALSCALE:GREGORIAN
BEGIN:VEVENT
UID:10d817616394ea404ac1f9ba1f0b3129
DTSTAMP:20260423T015632Z
SUMMARY:Critical Conversations©: For Elders and their Families
DESCRIPTION:Jewish Federation of Greater Portland\nYoung Families\nhttps://
 jewishportland.org/young-families/critical-conversations-for-elders-and-th
 eir-families-1755114594-498174\n\nHow do you talk to your family or other 
 important people about your wishes regarding care or other major decisions
 ? In this presentation\, you will gain the knowledge\, direction\, and too
 ls necessary to start sharing your intentions with those who matter the mo
 st.
DTSTART;TZID=America/Los_Angeles:20250907T130000
DTEND;TZID=America/Los_Angeles:20250907T150000
END:VEVENT
END:VCALENDAR
