BEGIN:VCALENDAR
PRODID:-//eluceo/ical//2.0/EN
VERSION:2.0
CALSCALE:GREGORIAN
BEGIN:VEVENT
UID:b3b2def40a044adfd10cdebfc304fa0d
DTSTAMP:20260423T135126Z
SUMMARY:CST's A Very Poppins Purim!
DESCRIPTION:Jewish Federation of Greater Portland\nYoung Families\nhttps://
 jewishportland.org/young-families/cst-a-very-poppins-purim-432142\n\nParty
  & Schpiel\n\nJoin us for a very fun and lively costume contest\, accessib
 le Megillah reading and the CST debut of Haman Poppins: A Jolly Holiday
  Purimschpiel (directed by Jemi\, staring Keith Berne\, Ya'ara Oren\, Car
 a\, Rabbi and more!) Nosh (not dinner) and no-host bar. Free and open to 
 all. Stay tuned for info about a possible raffle. RSVP here: https://sha
 arietorah.wufoo.com/forms/mmavqf70kvwl1i/
DTSTART;TZID=America/Los_Angeles:20230306T183000
DTEND;TZID=America/Los_Angeles:20230306T203000
END:VEVENT
END:VCALENDAR
