BEGIN:VCALENDAR
PRODID:-//eluceo/ical//2.0/EN
VERSION:2.0
CALSCALE:GREGORIAN
BEGIN:VEVENT
UID:a50d1ae965626532cdbd37cf14bc7f62
DTSTAMP:20260420T054703Z
SUMMARY:CST Men's Club Christmas Spaghetti Dinner
DESCRIPTION:Jewish Federation of Greater Portland\nYoung Families\nhttps://
 jewishportland.org/young-families/cst-mens-club-spaghetti-dinner-252427\n\
 nGet ready for a delicious and special spaghetti dinner with local music a
 nd good company! 
DTSTART;TZID=America/Los_Angeles:20171225T160000
DTEND;TZID=America/Los_Angeles:20171225T180000
END:VEVENT
END:VCALENDAR
