BEGIN:VCALENDAR
PRODID:-//eluceo/ical//2.0/EN
VERSION:2.0
CALSCALE:GREGORIAN
BEGIN:VEVENT
UID:a2f0c95f83df630e8df30308a6de502b
DTSTAMP:20260420T081640Z
SUMMARY:Dad's Night
DESCRIPTION:Jewish Federation of Greater Portland\nYoung Families\nhttps://
 jewishportland.org/young-families/dads-night-jan-131126\n\nCome have a dri
 nk with a Rabbi or other noted speaker. This community-wide group is open 
 to all Jewish dads and dads raising Jewish kids. Meet in a local pub and t
 ake part in a relaxed conversation with topics relevant to parenting. No c
 ost\, donation suggested.
DTSTART;TZID=America/Los_Angeles:20150115T193000
DTEND;TZID=America/Los_Angeles:20150115T213000
END:VEVENT
END:VCALENDAR
