BEGIN:VCALENDAR
PRODID:-//eluceo/ical//2.0/EN
VERSION:2.0
CALSCALE:GREGORIAN
BEGIN:VEVENT
UID:7c3086cd6066b3dbfdab23b295799f3f
DTSTAMP:20260419T133417Z
SUMMARY:Dad's Night Out
DESCRIPTION:Jewish Federation of Greater Portland\nYoung Families\nhttps://
 jewishportland.org/young-families/dads-night-out-169565\n\nDad’s Night i
 s an open and welcoming group of dads (of all ages!)  who get together for
  a drink\, some nosh and interesting relaxed discussion led by a local rab
 bi. 
DTSTART;TZID=America/Los_Angeles:20151119T193000
DTEND;TZID=America/Los_Angeles:20151119T213000
END:VEVENT
END:VCALENDAR
