BEGIN:VCALENDAR
PRODID:-//eluceo/ical//2.0/EN
VERSION:2.0
CALSCALE:GREGORIAN
BEGIN:VEVENT
UID:5dc2a3629a5d4d1caf46cb5e47cd0340
DTSTAMP:20260420T232902Z
SUMMARY:Decorate the Sukkah 
DESCRIPTION:Jewish Federation of Greater Portland\nYoung Families\nhttps://
 jewishportland.org/young-families/decorate-the-sukkah-104589\n\nPresented 
 by MJCC and PJA. Made possible with generous support from the Jewish Feder
 ation of Greater Portland.
DTSTART;TZID=America/Los_Angeles:20141005T150000
DTEND;TZID=America/Los_Angeles:20141005T160000
END:VEVENT
END:VCALENDAR
