BEGIN:VCALENDAR
PRODID:-//eluceo/ical//2.0/EN
VERSION:2.0
CALSCALE:GREGORIAN
BEGIN:VEVENT
UID:28012cb64aeda30fbc35811a7a4fc513
DTSTAMP:20260423T145137Z
SUMMARY:Dinner in Gesher's Sukkah
DESCRIPTION:Jewish Federation of Greater Portland\nYoung Families\nhttps://
 jewishportland.org/young-families/dinner-in-geshers-sukkah-501958\n\nCeleb
 rate Sukkot at Gesher\n\nMonday\,  October 6th at 5:00 PM - The First Nig
 ht of Sukkot at Gesher\n\n5:00 PM - Arrive at 5 if you would like to help 
 decorate the Sukkah!\n\n5:30 - Enjoy a delicious\, festive potluck vegeta
 rian dinner with candlelighting\, dancing\, welcoming mystery guests and 
 singing inside the Gesher Sukkah. All ages warmly welcome!\n\nRSVP is Nece
 ssary at www.ourjewishhome.org\, where there is also more information.\n\n
 Celebration with Rabbi Laurie and Rabbi Gary takes pl...
DTSTART;TZID=America/Los_Angeles:20251006T170000
DTEND;TZID=America/Los_Angeles:20251006T190000
END:VEVENT
END:VCALENDAR
